Package: LRBaseDbi Version: 2.17.0 Command: /home/biocbuild/bbs-3.21-bioc/R/bin/R CMD INSTALL LRBaseDbi StartedAt: 2025-02-21 16:35:03 -0500 (Fri, 21 Feb 2025) EndedAt: 2025-02-21 16:35:15 -0500 (Fri, 21 Feb 2025) EllapsedTime: 11.5 seconds RetCode: 0 Status: OK