Package: LRBaseDbi Version: 2.17.0 Command: /home/biocbuild/bbs-3.21-bioc/R/bin/R CMD build --keep-empty-dirs --no-resave-data LRBaseDbi StartedAt: 2025-02-21 18:21:14 -0500 (Fri, 21 Feb 2025) EndedAt: 2025-02-21 18:21:40 -0500 (Fri, 21 Feb 2025) EllapsedTime: 26.0 seconds RetCode: 0 Status: OK PackageFile: LRBaseDbi_2.17.0.tar.gz PackageFileSize: 145.9 KiB