Package: LRBaseDbi Version: 2.17.0 Command: /Library/Frameworks/R.framework/Resources/bin/R CMD check --install=check:LRBaseDbi.install-out.txt --library=/Library/Frameworks/R.framework/Resources/library --no-vignettes --timings LRBaseDbi_2.17.0.tar.gz StartedAt: 2025-02-21 21:19:41 -0500 (Fri, 21 Feb 2025) EndedAt: 2025-02-21 21:21:44 -0500 (Fri, 21 Feb 2025) EllapsedTime: 123.6 seconds RetCode: 0 Status: OK CheckDir: LRBaseDbi.Rcheck Warnings: 0