Package: LRBaseDbi Version: 2.17.0 Command: rm -rf LRBaseDbi.buildbin-libdir && mkdir LRBaseDbi.buildbin-libdir && /Users/biocbuild/BBS/utils/build-universal.sh LRBaseDbi_2.17.0.tar.gz /Library/Frameworks/R.framework/Resources/bin/R LRBaseDbi.buildbin-libdir StartedAt: 2025-02-22 00:38:44 -0500 (Sat, 22 Feb 2025) EndedAt: 2025-02-22 00:39:03 -0500 (Sat, 22 Feb 2025) EllapsedTime: 19.7 seconds RetCode: 0 Status: OK PackageFile: LRBaseDbi_2.17.0.tgz PackageFileSize: 557.9 KiB