Package: LRBaseDbi Version: 2.17.0 Command: /Library/Frameworks/R.framework/Resources/bin/R CMD build --keep-empty-dirs --no-resave-data LRBaseDbi StartedAt: 2025-02-20 16:47:26 -0500 (Thu, 20 Feb 2025) EndedAt: 2025-02-20 16:47:39 -0500 (Thu, 20 Feb 2025) EllapsedTime: 13.2 seconds RetCode: 0 Status: OK PackageFile: LRBaseDbi_2.17.0.tar.gz PackageFileSize: 145.7 KiB