Package: LPE Version: 1.81.0 Command: chmod a+r LPE -R && E:\biocbuild\bbs-3.21-bioc\R\bin\R.exe CMD build --keep-empty-dirs --no-resave-data LPE StartedAt: 2025-02-20 19:39:44 -0500 (Thu, 20 Feb 2025) EndedAt: 2025-02-20 19:40:05 -0500 (Thu, 20 Feb 2025) EllapsedTime: 21.5 seconds RetCode: 0 Status: OK PackageFile: LPE_1.81.0.tar.gz PackageFileSize: 295 KiB