Package: LPE Version: 1.81.0 Command: /Library/Frameworks/R.framework/Resources/bin/R CMD build --keep-empty-dirs --no-resave-data LPE StartedAt: 2025-02-20 17:10:39 -0500 (Thu, 20 Feb 2025) EndedAt: 2025-02-20 17:10:52 -0500 (Thu, 20 Feb 2025) EllapsedTime: 12.6 seconds RetCode: 0 Status: OK PackageFile: LPE_1.81.0.tar.gz PackageFileSize: 436.2 KiB