Package: LOLA Version: 1.37.0 Command: E:\biocbuild\bbs-3.21-bioc\R\bin\R.exe CMD check --no-multiarch --install=check:LOLA.install-out.txt --library=E:\biocbuild\bbs-3.21-bioc\R\library --no-vignettes --timings LOLA_1.37.0.tar.gz StartedAt: 2025-02-20 02:29:51 -0500 (Thu, 20 Feb 2025) EndedAt: 2025-02-20 02:31:54 -0500 (Thu, 20 Feb 2025) EllapsedTime: 122.0 seconds RetCode: 0 Status: OK CheckDir: LOLA.Rcheck Warnings: 0