Package: LEA Version: 3.19.4 Command: E:\biocbuild\bbs-3.21-bioc\R\bin\R.exe CMD INSTALL LEA StartedAt: 2025-02-20 15:17:51 -0500 (Thu, 20 Feb 2025) EndedAt: 2025-02-20 15:18:55 -0500 (Thu, 20 Feb 2025) EllapsedTime: 64.6 seconds RetCode: 0 Status: OK