Package: LEA Version: 3.19.4 Command: E:\biocbuild\bbs-3.21-bioc\R\bin\R.exe CMD check --no-multiarch --install=check:LEA.install-out.txt --library=E:\biocbuild\bbs-3.21-bioc\R\library --no-vignettes --timings LEA_3.19.4.tar.gz StartedAt: 2025-02-21 02:39:53 -0500 (Fri, 21 Feb 2025) EndedAt: 2025-02-21 02:43:01 -0500 (Fri, 21 Feb 2025) EllapsedTime: 188.4 seconds RetCode: 0 Status: OK CheckDir: LEA.Rcheck Warnings: 0