Package: LEA Version: 3.19.4 Command: chmod a+r LEA -R && E:\biocbuild\bbs-3.21-bioc\R\bin\R.exe CMD build --keep-empty-dirs --no-resave-data LEA StartedAt: 2025-02-20 19:36:45 -0500 (Thu, 20 Feb 2025) EndedAt: 2025-02-20 19:40:09 -0500 (Thu, 20 Feb 2025) EllapsedTime: 204.1 seconds RetCode: 0 Status: OK PackageFile: LEA_3.19.4.tar.gz PackageFileSize: 742.9 KiB