Package: LEA Version: 3.19.4 Command: /home/biocbuild/bbs-3.21-bioc/R/bin/R CMD INSTALL LEA StartedAt: 2025-02-20 15:04:25 -0500 (Thu, 20 Feb 2025) EndedAt: 2025-02-20 15:04:28 -0500 (Thu, 20 Feb 2025) EllapsedTime: 3.3 seconds RetCode: 1 Status: ERROR