Package: LEA Version: 3.19.4 Command: /home/biocbuild/bbs-3.21-bioc/R/bin/R CMD check --install=check:LEA.install-out.txt --library=/home/biocbuild/bbs-3.21-bioc/R/site-library --timings LEA_3.19.4.tar.gz StartedAt: 2025-02-19 23:31:19 -0500 (Wed, 19 Feb 2025) EndedAt: 2025-02-19 23:34:37 -0500 (Wed, 19 Feb 2025) EllapsedTime: 198.4 seconds RetCode: 0 Status: OK CheckDir: LEA.Rcheck Warnings: 0