Package: LEA Version: 3.19.4 Command: /home/biocbuild/bbs-3.21-bioc/R/bin/R CMD build --keep-empty-dirs --no-resave-data LEA StartedAt: 2025-02-20 17:58:31 -0500 (Thu, 20 Feb 2025) EndedAt: 2025-02-20 17:58:33 -0500 (Thu, 20 Feb 2025) EllapsedTime: 2.0 seconds RetCode: 1 Status: ERROR PackageFile: None PackageFileSize: NA