Package: LEA Version: 3.19.4 Command: /Library/Frameworks/R.framework/Resources/bin/R CMD INSTALL LEA StartedAt: 2025-02-20 15:03:25 -0500 (Thu, 20 Feb 2025) EndedAt: 2025-02-20 15:03:59 -0500 (Thu, 20 Feb 2025) EllapsedTime: 34.0 seconds RetCode: 0 Status: OK