Package: LEA Version: 3.19.4 Command: /Library/Frameworks/R.framework/Resources/bin/R CMD check --install=check:LEA.install-out.txt --library=/Library/Frameworks/R.framework/Resources/library --no-vignettes --timings LEA_3.19.4.tar.gz StartedAt: 2025-02-20 21:16:02 -0500 (Thu, 20 Feb 2025) EndedAt: 2025-02-20 21:18:31 -0500 (Thu, 20 Feb 2025) EllapsedTime: 148.3 seconds RetCode: 0 Status: OK CheckDir: LEA.Rcheck Warnings: 0