Package: LEA Version: 3.19.4 Command: /Library/Frameworks/R.framework/Resources/bin/R CMD build --keep-empty-dirs --no-resave-data LEA StartedAt: 2025-02-20 17:09:21 -0500 (Thu, 20 Feb 2025) EndedAt: 2025-02-20 17:11:10 -0500 (Thu, 20 Feb 2025) EllapsedTime: 108.7 seconds RetCode: 0 Status: OK PackageFile: LEA_3.19.4.tar.gz PackageFileSize: 740.7 KiB