Package: LEA Version: 3.19.4 Command: rm -rf LEA.buildbin-libdir && mkdir LEA.buildbin-libdir && /Users/biocbuild/BBS/utils/build-universal.sh LEA_3.19.4.tar.gz /Library/Frameworks/R.framework/Resources/bin/R LEA.buildbin-libdir StartedAt: 2025-02-21 00:37:18 -0500 (Fri, 21 Feb 2025) EndedAt: 2025-02-21 00:37:52 -0500 (Fri, 21 Feb 2025) EllapsedTime: 33.6 seconds RetCode: 0 Status: OK PackageFile: LEA_3.19.4.tgz PackageFileSize: 968.4 KiB