Package: LACE Version: 2.11.0 Command: E:\biocbuild\bbs-3.21-bioc\R\bin\R.exe CMD INSTALL LACE StartedAt: 2025-02-18 16:04:56 -0500 (Tue, 18 Feb 2025) EndedAt: 2025-02-18 16:05:51 -0500 (Tue, 18 Feb 2025) EllapsedTime: 55.7 seconds RetCode: 0 Status: OK