Package: LACE Version: 2.11.0 Command: /home/biocbuild/bbs-3.21-bioc/R/bin/R CMD INSTALL LACE StartedAt: 2025-02-18 15:24:13 -0500 (Tue, 18 Feb 2025) EndedAt: 2025-02-18 15:24:46 -0500 (Tue, 18 Feb 2025) EllapsedTime: 32.6 seconds RetCode: 0 Status: OK