Package: KnowSeq Version: 1.21.0 Command: E:\biocbuild\bbs-3.21-bioc\R\bin\R.exe CMD INSTALL KnowSeq StartedAt: 2025-02-20 15:59:47 -0500 (Thu, 20 Feb 2025) EndedAt: 2025-02-20 16:00:30 -0500 (Thu, 20 Feb 2025) EllapsedTime: 42.9 seconds RetCode: 0 Status: OK