Package: KnowSeq Version: 1.21.0 Command: /home/biocbuild/bbs-3.21-bioc/R/bin/R CMD INSTALL KnowSeq StartedAt: 2025-02-20 15:38:22 -0500 (Thu, 20 Feb 2025) EndedAt: 2025-02-20 15:38:51 -0500 (Thu, 20 Feb 2025) EllapsedTime: 29.1 seconds RetCode: 0 Status: OK