Package: KnowSeq Version: 1.21.0 Command: /Library/Frameworks/R.framework/Resources/bin/R CMD INSTALL KnowSeq StartedAt: 2025-02-20 15:36:32 -0500 (Thu, 20 Feb 2025) EndedAt: 2025-02-20 15:37:13 -0500 (Thu, 20 Feb 2025) EllapsedTime: 40.3 seconds RetCode: 0 Status: OK