Package: KnowSeq Version: 1.21.0 Command: /Library/Frameworks/R.framework/Resources/bin/R CMD check --install=check:KnowSeq.install-out.txt --library=/Library/Frameworks/R.framework/Resources/library --no-vignettes --timings KnowSeq_1.21.0.tar.gz StartedAt: 2025-02-20 21:15:22 -0500 (Thu, 20 Feb 2025) EndedAt: 2025-02-20 21:20:31 -0500 (Thu, 20 Feb 2025) EllapsedTime: 309.2 seconds RetCode: 0 Status: OK CheckDir: KnowSeq.Rcheck Warnings: 0