Package: KnowSeq Version: 1.21.0 Command: /Library/Frameworks/R.framework/Resources/bin/R CMD build --keep-empty-dirs --no-resave-data KnowSeq StartedAt: 2025-02-20 17:09:04 -0500 (Thu, 20 Feb 2025) EndedAt: 2025-02-20 17:11:42 -0500 (Thu, 20 Feb 2025) EllapsedTime: 158.0 seconds RetCode: 0 Status: OK PackageFile: KnowSeq_1.21.0.tar.gz PackageFileSize: 8.259 MiB