Package: KnowSeq Version: 1.21.0 Command: /Library/Frameworks/R.framework/Resources/bin/R CMD build --keep-empty-dirs --no-resave-data KnowSeq StartedAt: 2025-02-20 16:46:06 -0500 (Thu, 20 Feb 2025) EndedAt: 2025-02-20 16:47:10 -0500 (Thu, 20 Feb 2025) EllapsedTime: 63.7 seconds RetCode: 0 Status: OK PackageFile: KnowSeq_1.21.0.tar.gz PackageFileSize: 8.262 MiB