Package: KinSwingR Version: 1.25.0 Command: /home/biocbuild/bbs-3.21-bioc/R/bin/R CMD build --keep-empty-dirs --no-resave-data KinSwingR StartedAt: 2025-02-19 17:49:30 -0500 (Wed, 19 Feb 2025) EndedAt: 2025-02-19 17:49:57 -0500 (Wed, 19 Feb 2025) EllapsedTime: 27.0 seconds RetCode: 0 Status: OK PackageFile: KinSwingR_1.25.0.tar.gz PackageFileSize: 578.2 KiB