Package: KEGGlincs Version: 1.33.0 Command: E:\biocbuild\bbs-3.21-bioc\R\bin\R.exe CMD check --no-multiarch --install=check:KEGGlincs.install-out.txt --library=E:\biocbuild\bbs-3.21-bioc\R\library --no-vignettes --timings KEGGlincs_1.33.0.tar.gz StartedAt: 2025-02-21 02:37:14 -0500 (Fri, 21 Feb 2025) EndedAt: 2025-02-21 02:41:34 -0500 (Fri, 21 Feb 2025) EllapsedTime: 260.1 seconds RetCode: 0 Status: OK CheckDir: KEGGlincs.Rcheck Warnings: 0