Package: KEGGlincs Version: 1.33.0 Command: chmod a+r KEGGlincs -R && E:\biocbuild\bbs-3.21-bioc\R\bin\R.exe CMD build --keep-empty-dirs --no-resave-data KEGGlincs StartedAt: 2025-02-20 19:35:21 -0500 (Thu, 20 Feb 2025) EndedAt: 2025-02-20 19:36:27 -0500 (Thu, 20 Feb 2025) EllapsedTime: 66.6 seconds RetCode: 0 Status: OK PackageFile: KEGGlincs_1.33.0.tar.gz PackageFileSize: 4.215 MiB