Package: KEGGlincs Version: 1.33.0 Command: /Library/Frameworks/R.framework/Resources/bin/R CMD check --install=check:KEGGlincs.install-out.txt --library=/Library/Frameworks/R.framework/Resources/library --no-vignettes --timings KEGGlincs_1.33.0.tar.gz StartedAt: 2025-02-20 21:14:46 -0500 (Thu, 20 Feb 2025) EndedAt: 2025-02-20 21:19:12 -0500 (Thu, 20 Feb 2025) EllapsedTime: 266.1 seconds RetCode: 0 Status: OK CheckDir: KEGGlincs.Rcheck Warnings: 0