Package: KEGGlincs Version: 1.33.0 Command: /Library/Frameworks/R.framework/Resources/bin/R CMD build --keep-empty-dirs --no-resave-data KEGGlincs StartedAt: 2025-02-20 17:08:45 -0500 (Thu, 20 Feb 2025) EndedAt: 2025-02-20 17:09:45 -0500 (Thu, 20 Feb 2025) EllapsedTime: 60.7 seconds RetCode: 0 Status: OK PackageFile: KEGGlincs_1.33.0.tar.gz PackageFileSize: 4.215 MiB