Package: KEGGlincs Version: 1.33.0 Command: /Library/Frameworks/R.framework/Resources/bin/R CMD check --install=check:KEGGlincs.install-out.txt --library=/Library/Frameworks/R.framework/Resources/library --no-vignettes --timings KEGGlincs_1.33.0.tar.gz StartedAt: 2025-02-20 19:53:15 -0500 (Thu, 20 Feb 2025) EndedAt: 2025-02-20 19:54:47 -0500 (Thu, 20 Feb 2025) EllapsedTime: 92.2 seconds RetCode: 0 Status: OK CheckDir: KEGGlincs.Rcheck Warnings: 0