Package: KEGGlincs Version: 1.33.0 Command: rm -rf KEGGlincs.buildbin-libdir && mkdir KEGGlincs.buildbin-libdir && /Users/biocbuild/BBS/utils/build-universal.sh KEGGlincs_1.33.0.tar.gz /Library/Frameworks/R.framework/Resources/bin/R KEGGlincs.buildbin-libdir StartedAt: 2025-02-20 22:23:29 -0500 (Thu, 20 Feb 2025) EndedAt: 2025-02-20 22:23:37 -0500 (Thu, 20 Feb 2025) EllapsedTime: 8.2 seconds RetCode: 0 Status: OK PackageFile: KEGGlincs_1.33.0.tgz PackageFileSize: 2.28 MiB