Package: KEGGgraph Version: 1.67.0 Command: /home/biocbuild/bbs-3.21-bioc/R/bin/R CMD check --install=check:KEGGgraph.install-out.txt --library=/home/biocbuild/bbs-3.21-bioc/R/site-library --timings KEGGgraph_1.67.0.tar.gz StartedAt: 2025-02-17 23:19:01 -0500 (Mon, 17 Feb 2025) EndedAt: 2025-02-17 23:20:43 -0500 (Mon, 17 Feb 2025) EllapsedTime: 102.1 seconds RetCode: 0 Status: WARNINGS CheckDir: KEGGgraph.Rcheck Warnings: 1