Package: KEGGgraph Version: 1.67.0 Command: /Library/Frameworks/R.framework/Resources/bin/R CMD INSTALL KEGGgraph StartedAt: 2025-02-17 15:08:44 -0500 (Mon, 17 Feb 2025) EndedAt: 2025-02-17 15:08:53 -0500 (Mon, 17 Feb 2025) EllapsedTime: 8.2 seconds RetCode: 0 Status: OK