Package: KEGGgraph Version: 1.67.0 Command: rm -rf KEGGgraph.buildbin-libdir && mkdir KEGGgraph.buildbin-libdir && /Users/biocbuild/BBS/utils/build-universal.sh KEGGgraph_1.67.0.tar.gz /Library/Frameworks/R.framework/Resources/bin/R KEGGgraph.buildbin-libdir StartedAt: 2025-02-18 00:31:00 -0500 (Tue, 18 Feb 2025) EndedAt: 2025-02-18 00:31:12 -0500 (Tue, 18 Feb 2025) EllapsedTime: 11.6 seconds RetCode: 0 Status: OK PackageFile: KEGGgraph_1.67.0.tgz PackageFileSize: 1.626 MiB