Package: KEGGgraph Version: 1.67.0 Command: /Library/Frameworks/R.framework/Resources/bin/R CMD check --install=check:KEGGgraph.install-out.txt --library=/Library/Frameworks/R.framework/Resources/library --no-vignettes --timings KEGGgraph_1.67.0.tar.gz StartedAt: 2025-02-17 19:51:59 -0500 (Mon, 17 Feb 2025) EndedAt: 2025-02-17 19:52:31 -0500 (Mon, 17 Feb 2025) EllapsedTime: 31.4 seconds RetCode: 0 Status: WARNINGS CheckDir: KEGGgraph.Rcheck Warnings: 1