Package: KEGGgraph Version: 1.67.0 Command: /Library/Frameworks/R.framework/Resources/bin/R CMD build --keep-empty-dirs --no-resave-data KEGGgraph StartedAt: 2025-02-17 16:44:36 -0500 (Mon, 17 Feb 2025) EndedAt: 2025-02-17 16:45:01 -0500 (Mon, 17 Feb 2025) EllapsedTime: 25.3 seconds RetCode: 0 Status: OK PackageFile: KEGGgraph_1.67.0.tar.gz PackageFileSize: 1.315 MiB