Package: KEGGREST Version: 1.47.0 Command: rm -rf KEGGREST.buildbin-libdir && mkdir KEGGREST.buildbin-libdir && E:\biocbuild\bbs-3.21-bioc\R\bin\R.exe CMD INSTALL --build --library=KEGGREST.buildbin-libdir KEGGREST_1.47.0.tar.gz StartedAt: 2025-02-20 08:03:01 -0500 (Thu, 20 Feb 2025) EndedAt: 2025-02-20 08:03:27 -0500 (Thu, 20 Feb 2025) EllapsedTime: 25.6 seconds RetCode: 0 Status: OK PackageFile: KEGGREST_1.47.0.zip PackageFileSize: 400.6 KiB