Package: KEGGREST Version: 1.47.0 Command: /home/biocbuild/bbs-3.21-bioc/R/bin/R CMD INSTALL KEGGREST StartedAt: 2025-02-17 15:23:52 -0500 (Mon, 17 Feb 2025) EndedAt: 2025-02-17 15:24:01 -0500 (Mon, 17 Feb 2025) EllapsedTime: 9.5 seconds RetCode: 0 Status: OK