Package: KEGGREST Version: 1.47.0 Command: /home/biocbuild/bbs-3.21-bioc/R/bin/R CMD check --install=check:KEGGREST.install-out.txt --library=/home/biocbuild/bbs-3.21-bioc/R/site-library --timings KEGGREST_1.47.0.tar.gz StartedAt: 2025-02-17 23:19:55 -0500 (Mon, 17 Feb 2025) EndedAt: 2025-02-17 23:23:37 -0500 (Mon, 17 Feb 2025) EllapsedTime: 221.4 seconds RetCode: 0 Status: OK CheckDir: KEGGREST.Rcheck Warnings: 0