Package: KEGGREST Version: 1.47.0 Command: /home/biocbuild/bbs-3.21-bioc/R/bin/R CMD build --keep-empty-dirs --no-resave-data KEGGREST StartedAt: 2025-02-17 17:47:09 -0500 (Mon, 17 Feb 2025) EndedAt: 2025-02-17 17:47:41 -0500 (Mon, 17 Feb 2025) EllapsedTime: 32.0 seconds RetCode: 0 Status: OK PackageFile: KEGGREST_1.47.0.tar.gz PackageFileSize: 233.5 KiB