Package: KEGGREST Version: 1.47.0 Command: /Library/Frameworks/R.framework/Resources/bin/R CMD INSTALL KEGGREST StartedAt: 2025-02-17 15:09:10 -0500 (Mon, 17 Feb 2025) EndedAt: 2025-02-17 15:09:24 -0500 (Mon, 17 Feb 2025) EllapsedTime: 14.0 seconds RetCode: 0 Status: OK