Package: KEGGREST Version: 1.47.0 Command: /Library/Frameworks/R.framework/Resources/bin/R CMD check --install=check:KEGGREST.install-out.txt --library=/Library/Frameworks/R.framework/Resources/library --no-vignettes --timings KEGGREST_1.47.0.tar.gz StartedAt: 2025-02-17 21:10:30 -0500 (Mon, 17 Feb 2025) EndedAt: 2025-02-17 21:14:06 -0500 (Mon, 17 Feb 2025) EllapsedTime: 216.5 seconds RetCode: 0 Status: OK CheckDir: KEGGREST.Rcheck Warnings: 0