Package: KEGGREST Version: 1.47.0 Command: /Library/Frameworks/R.framework/Resources/bin/R CMD build --keep-empty-dirs --no-resave-data KEGGREST StartedAt: 2025-02-17 17:07:35 -0500 (Mon, 17 Feb 2025) EndedAt: 2025-02-17 17:08:12 -0500 (Mon, 17 Feb 2025) EllapsedTime: 37.7 seconds RetCode: 0 Status: OK PackageFile: KEGGREST_1.47.0.tar.gz PackageFileSize: 233.5 KiB