Package: KEGGREST Version: 1.47.0 Command: rm -rf KEGGREST.buildbin-libdir && mkdir KEGGREST.buildbin-libdir && /Users/biocbuild/BBS/utils/build-universal.sh KEGGREST_1.47.0.tar.gz /Library/Frameworks/R.framework/Resources/bin/R KEGGREST.buildbin-libdir StartedAt: 2025-02-18 00:31:01 -0500 (Tue, 18 Feb 2025) EndedAt: 2025-02-18 00:31:17 -0500 (Tue, 18 Feb 2025) EllapsedTime: 15.1 seconds RetCode: 0 Status: OK PackageFile: KEGGREST_1.47.0.tgz PackageFileSize: 397.1 KiB