Package: KCsmart Version: 2.65.0 Command: chmod a+r KCsmart -R && E:\biocbuild\bbs-3.21-bioc\R\bin\R.exe CMD build --keep-empty-dirs --no-resave-data KCsmart StartedAt: 2025-02-20 19:34:50 -0500 (Thu, 20 Feb 2025) EndedAt: 2025-02-20 19:35:32 -0500 (Thu, 20 Feb 2025) EllapsedTime: 41.9 seconds RetCode: 0 Status: OK PackageFile: KCsmart_2.65.0.tar.gz PackageFileSize: 1.717 MiB