Package: KCsmart Version: 2.65.0 Command: /home/biocbuild/bbs-3.21-bioc/R/bin/R CMD INSTALL KCsmart StartedAt: 2025-02-20 15:21:52 -0500 (Thu, 20 Feb 2025) EndedAt: 2025-02-20 15:22:01 -0500 (Thu, 20 Feb 2025) EllapsedTime: 9.0 seconds RetCode: 0 Status: OK