Package: KCsmart Version: 2.65.0 Command: /home/biocbuild/bbs-3.21-bioc/R/bin/R CMD check --install=check:KCsmart.install-out.txt --library=/home/biocbuild/bbs-3.21-bioc/R/site-library --timings KCsmart_2.65.0.tar.gz StartedAt: 2025-02-20 23:04:57 -0500 (Thu, 20 Feb 2025) EndedAt: 2025-02-20 23:06:31 -0500 (Thu, 20 Feb 2025) EllapsedTime: 94.1 seconds RetCode: 0 Status: WARNINGS CheckDir: KCsmart.Rcheck Warnings: 1