Package: KCsmart Version: 2.65.0 Command: /Library/Frameworks/R.framework/Resources/bin/R CMD build --keep-empty-dirs --no-resave-data KCsmart StartedAt: 2025-02-20 16:45:43 -0500 (Thu, 20 Feb 2025) EndedAt: 2025-02-20 16:45:54 -0500 (Thu, 20 Feb 2025) EllapsedTime: 11.1 seconds RetCode: 0 Status: OK PackageFile: KCsmart_2.65.0.tar.gz PackageFileSize: 1.818 MiB